BEGIN:VCALENDAR
PRODID:-//Microsoft Corporation//Outlook 11.0 MIMEDIR//EN
VERSION:2.0
METHOD:PUBLISH
BEGIN:VEVENT
UID:828bdfb2114885b6f15a1f74ce85480f@http://tportal.tomas.travel/schwarzwaldregionfreiburg/event/ics/1687569/181529382
DTSTAMP:20260423T072535Z
DTEND;VALUE=DATE:19700101
DTSTART;VALUE=DATE:19700101
LOCATION: Oberried
SUMMARY:Wochenmarkt in der Klosterschiire
END:VEVENT
END:VCALENDAR