BEGIN:VCALENDAR
PRODID:-//Microsoft Corporation//Outlook 11.0 MIMEDIR//EN
VERSION:2.0
METHOD:PUBLISH
BEGIN:VEVENT
UID:362802b07dfdebdebfee0320c735123c@http://tportal.tomas.travel/sasbachwalden/event/ics/2062203/262499885
DTSTAMP:20260420T182120Z
DTEND;VALUE=DATE:19700101
DTSTART;VALUE=DATE:19700101
LOCATION:Alde Gott Winzer Schwarzwald eG Sasbachwalden
SUMMARY:Alde Gott Mittwochsweinprobe
END:VEVENT
END:VCALENDAR