BEGIN:VCALENDAR
PRODID:-//Microsoft Corporation//Outlook 11.0 MIMEDIR//EN
VERSION:2.0
METHOD:PUBLISH
BEGIN:VEVENT
UID:b8a23ecde67134d0ff1a1bbbfae52d2f@http://tportal.tomas.travel/sasbachwalden/event/ics/2062181/2022-05-29
DTSTAMP:20260420T005223Z
DTEND;VALUE=DATE:19700101
DTSTART;VALUE=DATE:19700101
LOCATION:Bildstöckle Alde Gott Sasbachwalden
SUMMARY:Weinausschank Creatiwi
END:VEVENT
END:VCALENDAR