BEGIN:VCALENDAR
PRODID:-//Microsoft Corporation//Outlook 11.0 MIMEDIR//EN
VERSION:2.0
METHOD:PUBLISH
BEGIN:VEVENT
UID:ac56a9221d481a875344ae31bad2bd40@http://tportal.tomas.travel/osw-stadt/event/ics/2783275/301881704
DTSTAMP:20260424T124337Z
DTSTART:20260506T170000
DTEND:20260923T180000
LOCATION: Schönau
SUMMARY:Kirchturmbesteigung
END:VEVENT
END:VCALENDAR