BEGIN:VCALENDAR
PRODID:-//Microsoft Corporation//Outlook 11.0 MIMEDIR//EN
VERSION:2.0
METHOD:PUBLISH
BEGIN:VEVENT
UID:3162aaf6f8ae3d168bb9bd12ccf3a4a9@http://tportal.tomas.travel/osw-stadt/event/ics/2783273/301881546
DTSTAMP:20260422T215922Z
DTSTART:20260502T090000
DTEND:20260919T120000
LOCATION: Fröhnd
SUMMARY:Schnupperangeln
END:VEVENT
END:VCALENDAR