BEGIN:VCALENDAR
PRODID:-//Microsoft Corporation//Outlook 11.0 MIMEDIR//EN
VERSION:2.0
METHOD:PUBLISH
BEGIN:VEVENT
UID:61374032a8091313467a97be48c8ded0@http://tportal.tomas.travel/osw-stadt/event/ics/2783272/2026-05-07
DTSTAMP:20260421T135425Z
DTSTART:20260507T140000
DTEND:20260507T140000
LOCATION: Schönau
SUMMARY:Geführte Mountainbike-Tour
END:VEVENT
END:VCALENDAR