BEGIN:VCALENDAR
PRODID:-//Microsoft Corporation//Outlook 11.0 MIMEDIR//EN
VERSION:2.0
METHOD:PUBLISH
BEGIN:VEVENT
UID:d2a8bf3b05978df13b406dbbf0071d0f@http://tportal.tomas.travel/osw-stadt/event/ics/2781490/301881659
DTSTAMP:20260421T164133Z
DTSTART:20260424T100000
DTEND:20261218T143000
LOCATION: Schönau
SUMMARY:Wochenmarkt Schönau
END:VEVENT
END:VCALENDAR