BEGIN:VCALENDAR
PRODID:-//Microsoft Corporation//Outlook 11.0 MIMEDIR//EN
VERSION:2.0
METHOD:PUBLISH
BEGIN:VEVENT
UID:4af0df58f210495f2b8f1551fea8de43@http://tportal.tomas.travel/osw-stadt/event/ics/2781490/2026-05-22
DTSTAMP:20260423T041943Z
DTSTART:20260522T100000
DTEND:20260522T143000
LOCATION: Schönau
SUMMARY:Wochenmarkt Schönau
END:VEVENT
END:VCALENDAR