BEGIN:VCALENDAR
PRODID:-//Microsoft Corporation//Outlook 11.0 MIMEDIR//EN
VERSION:2.0
METHOD:PUBLISH
BEGIN:VEVENT
UID:2c0f3297e8b98f0c1d622a80b43738c9@http://tportal.tomas.travel/osw-stadt/event/ics/2781490/2026-05-15
DTSTAMP:20260423T041932Z
DTSTART:20260515T100000
DTEND:20260515T143000
LOCATION: Schönau
SUMMARY:Wochenmarkt Schönau
END:VEVENT
END:VCALENDAR