BEGIN:VCALENDAR
PRODID:-//Microsoft Corporation//Outlook 11.0 MIMEDIR//EN
VERSION:2.0
METHOD:PUBLISH
BEGIN:VEVENT
UID:b486d84c013b4065c85ab3f5cb64e6dc@http://tportal.tomas.travel/osw-stadt/event/ics/2781490/2026-05-08
DTSTAMP:20260423T041952Z
DTSTART:20260508T100000
DTEND:20260508T143000
LOCATION: Schönau
SUMMARY:Wochenmarkt Schönau
END:VEVENT
END:VCALENDAR