BEGIN:VCALENDAR
PRODID:-//Microsoft Corporation//Outlook 11.0 MIMEDIR//EN
VERSION:2.0
METHOD:PUBLISH
BEGIN:VEVENT
UID:6f71c0777c042c250130a3ff95da17f8@http://tportal.tomas.travel/osw-stadt/event/ics/2776613/2026-04-17
DTSTAMP:20260420T142103Z
DTSTART:20260417T143000
DTEND:20260417T180000
LOCATION: Schönau
SUMMARY:Kräuterwanderung am Haselberg
END:VEVENT
END:VCALENDAR