BEGIN:VCALENDAR
PRODID:-//Microsoft Corporation//Outlook 11.0 MIMEDIR//EN
VERSION:2.0
METHOD:PUBLISH
BEGIN:VEVENT
UID:9daad5ba8ab765d95ef0d608ce4d6b08@http://tportal.tomas.travel/osw-stadt/event/ics/2776355/301154299
DTSTAMP:20260426T005822Z
DTSTART:20260427T183000
DTEND:20261221T193000
LOCATION: Schönau
SUMMARY:HIIT-Kurs mit Ramona
END:VEVENT
END:VCALENDAR