BEGIN:VCALENDAR
PRODID:-//Microsoft Corporation//Outlook 11.0 MIMEDIR//EN
VERSION:2.0
METHOD:PUBLISH
BEGIN:VEVENT
UID:affb4f4529f8348d696a14eeeb7ce7d8@http://tportal.tomas.travel/osw-stadt/event/ics/2776355/2026-05-07
DTSTAMP:20260423T213133Z
DTSTART:20260507T183000
DTEND:20260507T193000
LOCATION: Schönau
SUMMARY:HIIT-Kurs mit Ramona
END:VEVENT
END:VCALENDAR