BEGIN:VCALENDAR
PRODID:-//Microsoft Corporation//Outlook 11.0 MIMEDIR//EN
VERSION:2.0
METHOD:PUBLISH
BEGIN:VEVENT
UID:3b4d02e3f9a7624d631bedfc8ffe3dab@http://tportal.tomas.travel/osw-responsive/event/ics/2787471/2026-05-09
DTSTAMP:20260422T023453Z
DTSTART:20260509T093000
DTEND:20260509T093000
LOCATION: Schönau
SUMMARY:Tischtennis Grümpelturnier
END:VEVENT
END:VCALENDAR