BEGIN:VCALENDAR
PRODID:-//Microsoft Corporation//Outlook 11.0 MIMEDIR//EN
VERSION:2.0
METHOD:PUBLISH
BEGIN:VEVENT
UID:30e8454afc43729de813feee526fc312@http://tportal.tomas.travel/osw-responsive/event/ics/2783273/2026-05-09
DTSTAMP:20260420T022438Z
DTSTART:20260509T090000
DTEND:20260509T120000
LOCATION: Fröhnd
SUMMARY:Schnupperangeln
END:VEVENT
END:VCALENDAR