BEGIN:VCALENDAR
PRODID:-//Microsoft Corporation//Outlook 11.0 MIMEDIR//EN
VERSION:2.0
METHOD:PUBLISH
BEGIN:VEVENT
UID:ed5fc7a493e1ae37626753137e838bdb@http://tportal.tomas.travel/osw-responsive/event/ics/2783272/302254720
DTSTAMP:20260422T125719Z
DTSTART:20260423T140000
DTEND:20261029T140000
LOCATION: Schönau
SUMMARY:Geführte Mountainbike-Tour
END:VEVENT
END:VCALENDAR