BEGIN:VCALENDAR
PRODID:-//Microsoft Corporation//Outlook 11.0 MIMEDIR//EN
VERSION:2.0
METHOD:PUBLISH
BEGIN:VEVENT
UID:1d4c8032625573571e42cbb84c9c5069@http://tportal.tomas.travel/osw-responsive/event/ics/2783272/302254705
DTSTAMP:20260421T125035Z
DTSTART:20260416T140000
DTEND:20261029T140000
LOCATION: Schönau
SUMMARY:Geführte Mountainbike-Tour
END:VEVENT
END:VCALENDAR