BEGIN:VCALENDAR
PRODID:-//Microsoft Corporation//Outlook 11.0 MIMEDIR//EN
VERSION:2.0
METHOD:PUBLISH
BEGIN:VEVENT
UID:501c6792ff00064b4fa6cc9bf5a4dc86@http://tportal.tomas.travel/osw-responsive/event/ics/2776703/2026-05-01
DTSTAMP:20260421T125345Z
DTSTART:20260501T100000
DTEND:20260501T100000
LOCATION: Fröhnd
SUMMARY:Maischenke der Narrenclique Steisäckli Fröhnd
END:VEVENT
END:VCALENDAR