BEGIN:VCALENDAR
PRODID:-//Microsoft Corporation//Outlook 11.0 MIMEDIR//EN
VERSION:2.0
METHOD:PUBLISH
BEGIN:VEVENT
UID:b83b20dd453bb6d02f1caa1d2a13f55a@http://tportal.tomas.travel/osw-responsive/event/ics/2776355/2026-05-11
DTSTAMP:20260423T164655Z
DTSTART:20260511T183000
DTEND:20260511T193000
LOCATION: Schönau
SUMMARY:HIIT-Kurs mit Ramona
END:VEVENT
END:VCALENDAR