BEGIN:VCALENDAR
PRODID:-//Microsoft Corporation//Outlook 11.0 MIMEDIR//EN
VERSION:2.0
METHOD:PUBLISH
BEGIN:VEVENT
UID:c2dab16a78c96a31219be2fa5ac9cf42@http://tportal.tomas.travel/osw-responsive/event/ics/2776229/2026-05-03
DTSTAMP:20260421T120446Z
DTSTART:20260503T100000
DTEND:20260503T100000
LOCATION: Schönau
SUMMARY:E-Bike-Tour des Schwarzwaldvereins zur Hohen Möhr
END:VEVENT
END:VCALENDAR