BEGIN:VCALENDAR
PRODID:-//Microsoft Corporation//Outlook 11.0 MIMEDIR//EN
VERSION:2.0
METHOD:PUBLISH
BEGIN:VEVENT
UID:2a48865579c7d25fd90334d22901b6e1@http://tportal.tomas.travel/osw-responsive/event/ics/2763272/302254088
DTSTAMP:20260421T201102Z
DTEND;VALUE=DATE:20260504
DTSTART;VALUE=DATE:20260510
LOCATION: Schönau
SUMMARY:Schwarzwälder CleanUP Days
END:VEVENT
END:VCALENDAR