BEGIN:VCALENDAR
PRODID:-//Microsoft Corporation//Outlook 11.0 MIMEDIR//EN
VERSION:2.0
METHOD:PUBLISH
BEGIN:VEVENT
UID:19d64edd4555c6f4cb87d60659025c97@http://tportal.tomas.travel/osw-responsive/event/ics/2763272/2026-05-04
DTSTAMP:20260420T204848Z
DTEND;VALUE=DATE:20260504
DTSTART;VALUE=DATE:20260504
LOCATION: Schönau
SUMMARY:Schwarzwälder CleanUP Days
END:VEVENT
END:VCALENDAR