BEGIN:VCALENDAR
PRODID:-//Microsoft Corporation//Outlook 11.0 MIMEDIR//EN
VERSION:2.0
METHOD:PUBLISH
BEGIN:VEVENT
UID:37dd3981351654a16c0f73f998219cef@http://tportal.tomas.travel/hallertau/event/ics/2786649/302274342
DTSTAMP:20260425T131005Z
DTSTART:20260425T100000
DTEND:20260531T170000
LOCATION: Freising
SUMMARY:curiocity Pop-up Science Center
END:VEVENT
END:VCALENDAR