BEGIN:VCALENDAR
PRODID:-//Microsoft Corporation//Outlook 11.0 MIMEDIR//EN
VERSION:2.0
METHOD:PUBLISH
BEGIN:VEVENT
UID:efa5394c7184d4675d7dc9765b9e8e2d@http://tportal.tomas.travel/hallertau/event/ics/2786649/302274341
DTSTAMP:20260423T020340Z
DTSTART:20260423T130000
DTEND:20260531T170000
LOCATION: Freising
SUMMARY:curiocity Pop-up Science Center
END:VEVENT
END:VCALENDAR