BEGIN:VCALENDAR
PRODID:-//Microsoft Corporation//Outlook 11.0 MIMEDIR//EN
VERSION:2.0
METHOD:PUBLISH
BEGIN:VEVENT
UID:8361b6c2eea2018b13e427874224e52b@http://tportal.tomas.travel/hallertau/event/ics/2786649/2026-04-23
DTSTAMP:20260424T200416Z
DTSTART:20260424T130000
DTEND:20260531T170000
LOCATION: Freising
SUMMARY:curiocity Pop-up Science Center
END:VEVENT
END:VCALENDAR