BEGIN:VCALENDAR
PRODID:-//Microsoft Corporation//Outlook 11.0 MIMEDIR//EN
VERSION:2.0
METHOD:PUBLISH
BEGIN:VEVENT
UID:c37cef53cf3e5b2d50709720cf1a71ca@http://tportal.tomas.travel/hallertau/event/ics/2786649/2026-04-11
DTSTAMP:20260421T201240Z
DTSTART:20260422T130000
DTEND:20260531T170000
LOCATION: Freising
SUMMARY:curiocity Pop-up Science Center
END:VEVENT
END:VCALENDAR