BEGIN:VCALENDAR
PRODID:-//Microsoft Corporation//Outlook 11.0 MIMEDIR//EN
VERSION:2.0
METHOD:PUBLISH
BEGIN:VEVENT
UID:ba89b62cc06ea9bccb82073d6f23f0dc@http://tportal.tomas.travel/hallertau/event/ics/2786469/302307974
DTSTAMP:20260421T110912Z
DTEND;VALUE=DATE:20260423
DTSTART;VALUE=DATE:20260521
LOCATION:vhs Freising e. V. Freising
SUMMARY:Was macht uns reich*arm?
END:VEVENT
END:VCALENDAR