BEGIN:VCALENDAR
PRODID:-//Microsoft Corporation//Outlook 11.0 MIMEDIR//EN
VERSION:2.0
METHOD:PUBLISH
BEGIN:VEVENT
UID:89b20bb22f56808ebb9f5701cb3786c9@http://tportal.tomas.travel/hallertau/event/ics/2786469/2026-04-29
DTSTAMP:20260425T112122Z
DTEND;VALUE=DATE:20260429
DTSTART;VALUE=DATE:20260429
LOCATION:vhs Freising e. V. Freising
SUMMARY:Was macht uns reich*arm?
END:VEVENT
END:VCALENDAR