BEGIN:VCALENDAR
PRODID:-//Microsoft Corporation//Outlook 11.0 MIMEDIR//EN
VERSION:2.0
METHOD:PUBLISH
BEGIN:VEVENT
UID:f5237d81f7ab0cf2dc5bfa70681c162f@http://tportal.tomas.travel/hallertau/event/ics/2786469/2026-04-25
DTSTAMP:20260421T183313Z
DTEND;VALUE=DATE:20260425
DTSTART;VALUE=DATE:20260425
LOCATION:vhs Freising e. V. Freising
SUMMARY:Was macht uns reich*arm?
END:VEVENT
END:VCALENDAR