BEGIN:VCALENDAR
PRODID:-//Microsoft Corporation//Outlook 11.0 MIMEDIR//EN
VERSION:2.0
METHOD:PUBLISH
BEGIN:VEVENT
UID:50310c5633de94b3911c232a73b5f941@http://tportal.tomas.travel/hallertau/event/ics/2786469/2026-04-24
DTSTAMP:20260419T233915Z
DTEND;VALUE=DATE:20260424
DTSTART;VALUE=DATE:20260424
LOCATION:vhs Freising e. V. Freising
SUMMARY:Was macht uns reich*arm?
END:VEVENT
END:VCALENDAR