BEGIN:VCALENDAR
PRODID:-//Microsoft Corporation//Outlook 11.0 MIMEDIR//EN
VERSION:2.0
METHOD:PUBLISH
BEGIN:VEVENT
UID:09b3f6c18467831f94793e156daa7ace@http://tportal.tomas.travel/hallertau/event/ics/2786468/302274199
DTSTAMP:20260423T195126Z
DTEND;VALUE=DATE:19700101
DTSTART;VALUE=DATE:19700101
LOCATION: Freising
SUMMARY:Was macht uns reich*arm?
END:VEVENT
END:VCALENDAR