BEGIN:VCALENDAR
PRODID:-//Microsoft Corporation//Outlook 11.0 MIMEDIR//EN
VERSION:2.0
METHOD:PUBLISH
BEGIN:VEVENT
UID:137efb91aef472b60ddfda6f86bc48be@http://tportal.tomas.travel/hallertau/event/ics/2786468/2026-04-21
DTSTAMP:20260419T183032Z
DTEND;VALUE=DATE:20260421
DTSTART;VALUE=DATE:20260421
LOCATION: Freising
SUMMARY:Was macht uns reich*arm?
END:VEVENT
END:VCALENDAR