BEGIN:VCALENDAR
PRODID:-//Microsoft Corporation//Outlook 11.0 MIMEDIR//EN
VERSION:2.0
METHOD:PUBLISH
BEGIN:VEVENT
UID:52c30c65df3a09984f9ab93effe6b8e0@http://tportal.tomas.travel/hallertau/event/ics/2786468/2026-04-18
DTSTAMP:20260421T051431Z
DTEND;VALUE=DATE:20260421
DTSTART;VALUE=DATE:20260422
LOCATION: Freising
SUMMARY:Was macht uns reich*arm?
END:VEVENT
END:VCALENDAR