BEGIN:VCALENDAR
PRODID:-//Microsoft Corporation//Outlook 11.0 MIMEDIR//EN
VERSION:2.0
METHOD:PUBLISH
BEGIN:VEVENT
UID:d614867b3b0b315786ccc6a24488f190@http://tportal.tomas.travel/hallertau/event/ics/2786382/302307858
DTSTAMP:20260421T051401Z
DTSTART:20260421T100000
DTEND:20260502T190000
LOCATION:Stadtbibliothek Freising
SUMMARY:&bdquo;Querschnitt&rdquo; - Gemäldeausstellung von Klemens Gerard Baum in der Stadtbibliothek
END:VEVENT
END:VCALENDAR