BEGIN:VCALENDAR
PRODID:-//Microsoft Corporation//Outlook 11.0 MIMEDIR//EN
VERSION:2.0
METHOD:PUBLISH
BEGIN:VEVENT
UID:7e716ce84921b32d8433710cb6713435@http://tportal.tomas.travel/hallertau/event/ics/2786382/2026-04-25
DTSTAMP:20260422T143058Z
DTSTART:20260425T100000
DTEND:20260425T140000
LOCATION:Stadtbibliothek Freising
SUMMARY:&bdquo;Querschnitt&rdquo; - Gemäldeausstellung von Klemens Gerard Baum in der Stadtbibliothek
END:VEVENT
END:VCALENDAR