BEGIN:VCALENDAR
PRODID:-//Microsoft Corporation//Outlook 11.0 MIMEDIR//EN
VERSION:2.0
METHOD:PUBLISH
BEGIN:VEVENT
UID:39b02861429a67ce73525f6d7823b2b8@http://tportal.tomas.travel/hallertau/event/ics/2786382/2026-04-24
DTSTAMP:20260419T192855Z
DTSTART:20260424T100000
DTEND:20260424T180000
LOCATION:Stadtbibliothek Freising
SUMMARY:&bdquo;Querschnitt&rdquo; - Gemäldeausstellung von Klemens Gerard Baum in der Stadtbibliothek
END:VEVENT
END:VCALENDAR