BEGIN:VCALENDAR
PRODID:-//Microsoft Corporation//Outlook 11.0 MIMEDIR//EN
VERSION:2.0
METHOD:PUBLISH
BEGIN:VEVENT
UID:817c670f9d63d5b5d998f99866be58be@http://tportal.tomas.travel/hallertau/event/ics/2786382/2026-04-22
DTSTAMP:20260422T084430Z
DTSTART:20260422T100000
DTEND:20260422T180000
LOCATION:Stadtbibliothek Freising
SUMMARY:&bdquo;Querschnitt&rdquo; - Gemäldeausstellung von Klemens Gerard Baum in der Stadtbibliothek
END:VEVENT
END:VCALENDAR