BEGIN:VCALENDAR
PRODID:-//Microsoft Corporation//Outlook 11.0 MIMEDIR//EN
VERSION:2.0
METHOD:PUBLISH
BEGIN:VEVENT
UID:d99b7209f4b159b80f026474bd3464a7@http://tportal.tomas.travel/hallertau/event/ics/2786382/2026-04-18
DTSTAMP:20260423T081213Z
DTSTART:20260423T100000
DTEND:20260502T180000
LOCATION:Stadtbibliothek Freising
SUMMARY:&bdquo;Querschnitt&rdquo; - Gemäldeausstellung von Klemens Gerard Baum in der Stadtbibliothek
END:VEVENT
END:VCALENDAR