BEGIN:VCALENDAR
PRODID:-//Microsoft Corporation//Outlook 11.0 MIMEDIR//EN
VERSION:2.0
METHOD:PUBLISH
BEGIN:VEVENT
UID:3b1d6d024886830aa71050d212714ba1@http://tportal.tomas.travel/hallertau/event/ics/2785422/302307061
DTSTAMP:20260421T183300Z
DTSTART:20260424T150000
DTEND:20260503T190000
LOCATION:Altes Gefängnis Freising
SUMMARY:MORGÜL ? Moritz Altmann & Ergül Cengiz - Keramische Objekte, Malerei, Scherenschnitt
END:VEVENT
END:VCALENDAR