BEGIN:VCALENDAR
PRODID:-//Microsoft Corporation//Outlook 11.0 MIMEDIR//EN
VERSION:2.0
METHOD:PUBLISH
BEGIN:VEVENT
UID:82d8f148d749dfb2d843191081ce5ca3@http://tportal.tomas.travel/hallertau/event/ics/2785422/302273264
DTSTAMP:20260419T192904Z
DTSTART:20260419T110000
DTEND:20260503T190000
LOCATION:Altes Gefängnis Freising
SUMMARY:MORGÜL ? Moritz Altmann & Ergül Cengiz - Keramische Objekte, Malerei, Scherenschnitt
END:VEVENT
END:VCALENDAR