BEGIN:VCALENDAR
PRODID:-//Microsoft Corporation//Outlook 11.0 MIMEDIR//EN
VERSION:2.0
METHOD:PUBLISH
BEGIN:VEVENT
UID:fddbe3bee9a591fe54b9d0375e646dde@http://tportal.tomas.travel/hallertau/event/ics/2785422/2026-04-25
DTSTAMP:20260425T022647Z
DTSTART:20260425T110000
DTEND:20260425T190000
LOCATION:Altes Gefängnis Freising
SUMMARY:MORGÜL ? Moritz Altmann & Ergül Cengiz - Keramische Objekte, Malerei, Scherenschnitt
END:VEVENT
END:VCALENDAR