BEGIN:VCALENDAR
PRODID:-//Microsoft Corporation//Outlook 11.0 MIMEDIR//EN
VERSION:2.0
METHOD:PUBLISH
BEGIN:VEVENT
UID:2fe6b31a8d102ebc1a1804f52d853f1f@http://tportal.tomas.travel/hallertau/event/ics/2785216/302273112
DTSTAMP:20260422T005813Z
DTEND;VALUE=DATE:20260422
DTSTART;VALUE=DATE:20260515
LOCATION:vhs Freising e. V. Freising
SUMMARY:&bdquo;Wenn die Tage länger werden ?&rdquo; - Blumen und Landschaften von Prof. Hannes Döllel
END:VEVENT
END:VCALENDAR