BEGIN:VCALENDAR
PRODID:-//Microsoft Corporation//Outlook 11.0 MIMEDIR//EN
VERSION:2.0
METHOD:PUBLISH
BEGIN:VEVENT
UID:643ea097f64638dac8b324034602f7bd@http://tportal.tomas.travel/hallertau/event/ics/2785216/2026-04-26
DTSTAMP:20260422T053658Z
DTEND;VALUE=DATE:20260426
DTSTART;VALUE=DATE:20260426
LOCATION:vhs Freising e. V. Freising
SUMMARY:&bdquo;Wenn die Tage länger werden ?&rdquo; - Blumen und Landschaften von Prof. Hannes Döllel
END:VEVENT
END:VCALENDAR