BEGIN:VCALENDAR
PRODID:-//Microsoft Corporation//Outlook 11.0 MIMEDIR//EN
VERSION:2.0
METHOD:PUBLISH
BEGIN:VEVENT
UID:bee744edd5be57f69afed1901fdb8af9@http://tportal.tomas.travel/hallertau/event/ics/2785216/2026-04-25
DTSTAMP:20260420T211747Z
DTEND;VALUE=DATE:20260425
DTSTART;VALUE=DATE:20260425
LOCATION:vhs Freising e. V. Freising
SUMMARY:&bdquo;Wenn die Tage länger werden ?&rdquo; - Blumen und Landschaften von Prof. Hannes Döllel
END:VEVENT
END:VCALENDAR