BEGIN:VCALENDAR
PRODID:-//Microsoft Corporation//Outlook 11.0 MIMEDIR//EN
VERSION:2.0
METHOD:PUBLISH
BEGIN:VEVENT
UID:49255909322fe7f4efdc0c0359343196@http://tportal.tomas.travel/hallertau/event/ics/2777269/302301544
DTSTAMP:20260424T211833Z
DTSTART:20260425T160000
DTEND:20260613T160000
LOCATION:galerie 13 Freising
SUMMARY:Manfred Jaletzky - Lithographie und Skulptur
END:VEVENT
END:VCALENDAR