BEGIN:VCALENDAR
PRODID:-//Microsoft Corporation//Outlook 11.0 MIMEDIR//EN
VERSION:2.0
METHOD:PUBLISH
BEGIN:VEVENT
UID:99a3e5472ba8699add6a77958e11947c@http://tportal.tomas.travel/hallertau/event/ics/2777167/2026-04-18
DTSTAMP:20260420T052949Z
DTEND;VALUE=DATE:19700101
DTSTART;VALUE=DATE:19700101
LOCATION: Freising
SUMMARY:Heike Pillemann - aus dem Leben erfunden
END:VEVENT
END:VCALENDAR