BEGIN:VCALENDAR
PRODID:-//Microsoft Corporation//Outlook 11.0 MIMEDIR//EN
VERSION:2.0
METHOD:PUBLISH
BEGIN:VEVENT
UID:391a57998f02f778721e47050df0fece@http://tportal.tomas.travel/biosphaerengebietschwarzwald/event/ics/2787648/2026-04-28
DTSTAMP:20260423T021953Z
DTSTART:20260428T190000
DTEND:20260428T190000
LOCATION: Schönau
SUMMARY:Quiz-Abend
END:VEVENT
END:VCALENDAR