BEGIN:VCALENDAR
PRODID:-//Microsoft Corporation//Outlook 11.0 MIMEDIR//EN
VERSION:2.0
METHOD:PUBLISH
BEGIN:VEVENT
UID:539abf6a32d3f8d2345fa61cb54ca7ac@http://tportal.tomas.travel/biosphaerengebietschwarzwald/event/ics/2783274/301881581
DTSTAMP:20260423T001517Z
DTSTART:20260503T100000
DTEND:20261025T100000
LOCATION: Fröhnd
SUMMARY:Historische Klopfsäge
END:VEVENT
END:VCALENDAR