BEGIN:VCALENDAR
PRODID:-//Microsoft Corporation//Outlook 11.0 MIMEDIR//EN
VERSION:2.0
METHOD:PUBLISH
BEGIN:VEVENT
UID:b534e1467f2d12cefba0f9f9ec744da1@http://tportal.tomas.travel/biosphaerengebietschwarzwald/event/ics/2783274/2026-05-10
DTSTAMP:20260422T003839Z
DTSTART:20260510T100000
DTEND:20260510T100000
LOCATION: Fröhnd
SUMMARY:Historische Klopfsäge
END:VEVENT
END:VCALENDAR