BEGIN:VCALENDAR
PRODID:-//Microsoft Corporation//Outlook 11.0 MIMEDIR//EN
VERSION:2.0
METHOD:PUBLISH
BEGIN:VEVENT
UID:6d18a89ffa407db0ffef6e725f84694a@http://tportal.tomas.travel/biosphaerengebietschwarzwald/event/ics/2783273/2026-05-16
DTSTAMP:20260424T115213Z
DTSTART:20260516T090000
DTEND:20260516T120000
LOCATION: Fröhnd
SUMMARY:Schnupperangeln
END:VEVENT
END:VCALENDAR